BEGIN:VCALENDAR
VERSION:2.0
PRODID:-//Tukios.com/
BEGIN:VEVENT
UID:0255e2b1-cad5-436f-b6e4-8bc5d8630aa0@www.smithandthomasfh.com
DTSTAMP:20260422T202320Z
DTSTART:20260423T163000Z
DTEND:20260423T173000Z
SUMMARY:Memorial Service
DESCRIPTION:
URL:https://www.smithandthomasfh.com/obituaries/robert-hawkins
LOCATION: 5708 W Madison St  Chicago IL 60644
GEO:41.8804792;-87.7684632
END:VEVENT
END:VCALENDAR