BEGIN:VCALENDAR
VERSION:2.0
PRODID:-//Tukios.com/
BEGIN:VEVENT
UID:0c2cefbc-8666-4415-bc63-a13ba56c3d16@www.smithandthomasfh.com
DTSTAMP:20260422T202433Z
DTSTART:20260423T160000Z
DTEND:20260423T163000Z
SUMMARY:Family Gathering
DESCRIPTION:
URL:https://www.smithandthomasfh.com/obituaries/robert-hawkins
LOCATION: 5708 W Madison St  Chicago IL 60644
GEO:41.8804792;-87.7684632
END:VEVENT
END:VCALENDAR